BEGIN:VCALENDAR
PRODID:-//kirchenweb.ch gmbh//veranstaltungsausgabe v2.0//DE
VERSION:2.0
METHOD:PUBLISH
BEGIN:VEVENT
DTSTART:20171101T133000Z
DTEND:20171101T143000Z
LOCATION:Christkatholische Kirche /Friedhof Magden\, \, 4312 Magden
TRANSP:OPAQUE
SEQUENCE:0
UID:5676-veranstaltung@ref-rheinfelden.ch
DTSTAMP:20171011T125530Z
DESCRIPTION:Oekumenische Totengedenkfeier in der Dorfkirche und auf dem
  Friedhof\nPfr. Florian Piller\, Pfr. Peter Feenstra\, Pfr. Peter Senn\n
 \nKontakt: Pfr. Peter Senn\n\nWeitere Infos:
  https://www.ref-rheinfelden.ch/veranstaltung/5676
SUMMARY:Ökumenische Totengedenkfeier
PRIORITY:5
X-MICROSOFT-CDO-IMPORTANCE:1
CLASS:PUBLIC
END:VEVENT
END:VCALENDAR
