BEGIN:VCALENDAR
PRODID:-//kirchenweb.ch gmbh//veranstaltungsausgabe v2.0//DE
VERSION:2.0
METHOD:PUBLISH
BEGIN:VEVENT
DTSTART:20170416T040000Z
DTEND:20170416T050000Z
LOCATION:Kirchgemeindehaus Gässli\, Juchstrasse 27\, 4312 Magden
TRANSP:OPAQUE
SEQUENCE:0
UID:5671-veranstaltung@ref-rheinfelden.ch
DTSTAMP:20170314T102651Z
DESCRIPTION:Osterfeuer und Andacht mit Abendmahl\nMitwirkung von
  Jugendlichen und Verena Michel\, Blockflöte\n\n\nKontakt: Pfr. Peter
  Senn\n\nWeitere Infos: https://www.ref-rheinfelden.ch/veranstaltung/5671
SUMMARY:Osterfrühgottesdienst für die Gesamtgemeinde
PRIORITY:5
X-MICROSOFT-CDO-IMPORTANCE:1
CLASS:PUBLIC
END:VEVENT
END:VCALENDAR
