BEGIN:VCALENDAR
PRODID:-//kirchenweb.ch gmbh//veranstaltungsausgabe v2.0//DE
VERSION:2.0
METHOD:PUBLISH
BEGIN:VEVENT
DTSTART:20170303T170000Z
DTEND:20170303T210000Z
LOCATION:Kirchgemeindehaus Gässli\, Juchstrasse 27\, 4312 Magden
TRANSP:OPAQUE
SEQUENCE:0
UID:5669-veranstaltung@ref-rheinfelden.ch
DTSTAMP:20170202T112207Z
DESCRIPTION:Schwerpunktland Phillipinen.\nMit Beteiligung Phillipinischer
  Frauen\nWGT-Vorbereitungsteam\n\nKontakt: Claudia Schüpbach\n\nWeitere
  Infos: https://www.ref-rheinfelden.ch/veranstaltung/5669
SUMMARY:Weltgebetstagsgottesdienst
PRIORITY:5
X-MICROSOFT-CDO-IMPORTANCE:1
CLASS:PUBLIC
END:VEVENT
END:VCALENDAR
