BEGIN:VCALENDAR
PRODID:-//kirchenweb.ch gmbh//veranstaltungsausgabe v2.0//DE
VERSION:2.0
METHOD:PUBLISH
BEGIN:VEVENT
DTSTART:20170312T100000Z
DTEND:20170312T110000Z
LOCATION:Kirchgemeindehaus Gässli\, Juchstrasse 27\, 4312 Magden
TRANSP:OPAQUE
SEQUENCE:0
UID:5665-veranstaltung@ref-rheinfelden.ch
DTSTAMP:20170310T095551Z
DESCRIPTION:Oekumenische Gottesdienst zur Fastenaktion\nMitwirkung des
  Gospelchors Rheinfelden\nPfr. Florian Piller\, Pfr. Peter Feenstra\, Pfr.
  Peter Senn\n\nKontakt: Pfr. Peter Senn\n\nWeitere Infos:
  https://www.ref-rheinfelden.ch/veranstaltung/5665
SUMMARY:Oekumenischer Gottesdienst Gesamtgemeinde
PRIORITY:5
X-MICROSOFT-CDO-IMPORTANCE:1
CLASS:PUBLIC
END:VEVENT
END:VCALENDAR
