BEGIN:VCALENDAR
PRODID:-//kirchenweb.ch gmbh//veranstaltungsausgabe v2.0//DE
VERSION:2.0
METHOD:PUBLISH
BEGIN:VEVENT
DTSTART:20170507T080000Z
DTEND:20170507T090000Z
LOCATION:Kirchgemeindehaus Gässli\, Juchstrasse 27\, 4312 Magden
TRANSP:OPAQUE
SEQUENCE:0
UID:5659-veranstaltung@ref-rheinfelden.ch
DTSTAMP:20170406T075845Z
DESCRIPTION:Gottesdienst mit Begrüssung der neuen Konfirmanden/innen
 \nMitwirkung von Nina Haugen und ihrem Orchester ehemaliger
  Konfirmanden/innen\nPfr. Peter Senn\n\nKontakt: Pfr. Peter Senn\n
 \nWeitere Infos: https://www.ref-rheinfelden.ch/veranstaltung/5659
SUMMARY:Gottesdienst Konfirmandenbegrüssung
PRIORITY:5
X-MICROSOFT-CDO-IMPORTANCE:1
CLASS:PUBLIC
END:VEVENT
END:VCALENDAR
