BEGIN:VCALENDAR
PRODID:-//kirchenweb.ch gmbh//veranstaltungsausgabe v2.0//DE
VERSION:2.0
METHOD:PUBLISH
BEGIN:VEVENT
DTSTART:20170314T163000Z
DTEND:20170314T173000Z
LOCATION:Kirchgemeindehaus Robersten\, Roberstenstrasse 22\, 4310
  Rheinfelden
TRANSP:OPAQUE
SEQUENCE:0
UID:5562-veranstaltung@ref-rheinfelden.ch
DTSTAMP:20160620T073203Z
DESCRIPTION:Kontakt: klaus-christian.hirte@ref-rheinfelden.ch\n\nWeitere
  Infos: https://www.ref-rheinfelden.ch/veranstaltung/5562
SUMMARY:Konf-Unterricht Pfr. (Hirte)
PRIORITY:5
X-MICROSOFT-CDO-IMPORTANCE:1
CLASS:PUBLIC
END:VEVENT
END:VCALENDAR
