BEGIN:VCALENDAR
PRODID:-//kirchenweb.ch gmbh//veranstaltungsausgabe v2.0//DE
VERSION:2.0
METHOD:PUBLISH
BEGIN:VEVENT
DTSTART:20260519T170000Z
DTEND:20260519T190000Z
LOCATION:WWW\, \,
TRANSP:OPAQUE
SEQUENCE:0
UID:18196-veranstaltung@ref-rheinfelden.ch
DTSTAMP:20260418T210618Z
DESCRIPTION:Im https://www.ref-rheinfelden.ch/bericht/1614 am Anfang des
  Lukasevangeliums (Lk1-2) werde ich in der Taizéfeier am Freitag\, 22.
  Mai (19.15 Uhr im Kirchgemeindehaus Kaiseraugst\, mit Abendmahl\,
  gestaltet gemeinsam mit Praktikantin stud. theol. Silja Schreiner) über
  das "Magnificat"\, den berühmten Lobgesang der Maria\, eine kurze
  Predigtmeditation halten.\n\nDieses Canticum (Lk 1\, 46-55; Text siehe
  unten) würde ich im Vorfeld gern in einer kleinen Gruppe im Rahmen eines
  Bibelteilens (Erklärung siehe unten) besprechen. Übrigens wird Silja
  Schreiner im https://www.ref-rheinfelden.ch/veranstaltung/18138 (10 Uhr
  im Kirchgemeindehaus Kaiseraugst)\, am Ende ihres Praktikums bei uns\,
  über denselben Text predigen!\n\nHerzliche Einladung also auch im Namen
  von Silja zum Austausch per Zoom\, jede\, jeder bei sich zuhause\, am
  Feierabend mit einem Glas Wein\, einer Tasse Tee oder was immer\,
  anderthalb Stunden konzentriert vor dem Bildschirm\, verbunden im World
  Wide Web!\n\nWer dabei sein mag\, melde sich bei mir
  (andreas.fischer@ref-rheinfelden). Ich verschicke dann den Link. Die
  sieben Worte Jesu am Kreuz sowie Erläuterungen zum Bibelteilen sowie
  finden sich unten.\n\n---\n\nDas Magnificat: Lk 1\, 46-55\n\n46 Und Maria
  sprach: Meine Seele erhebt den Herrn\, 47 und mein Geist jubelt über
  Gott\, meinen Retter\, 48 denn hingesehen hat er auf die Niedrigkeit
  seiner Magd. Siehe\, von nun an werden mich seligpreisen alle
  Geschlechter\, 49 denn Grosses hat der Mächtige an mir getan. Und
  heilig ist sein Name\, 50 und seine Barmherzigkeit gilt von Geschlecht
  zu Geschlecht denen\, die ihn fürchten. 51 Gewaltiges hat er
  vollbracht mit seinem Arm\, zerstreut hat er\, die hochmütig sind in
  ihrem Herzen\, 52 Mächtige hat er vom Thron gestürzt und Niedrige
  erhöht\, 53 Hungrige hat er gesättigt mit Gutem und Reiche leer
  ausgehen lassen. 54 Er hat sich Israels\, seines Knechtes\, angenommen
  und seiner Barmherzigkeit gedacht\, 55 wie er es unseren Vätern
  versprochen hat\, Abraham und seinen Nachkommen in Ewigkeit.\n\n---\n
 \nBibelteilen\n\n„Beim Bibel-Teilen sitzen alle\, Gläubige und
  Amtsträger\, gleichberechtigt nebeneinander: Keiner soll den anderen
  belehren\, sich im Umgang mit der Bibel über den anderen erheben.“
  (Fritz Lobinger\, Bischof in Südafrika)\n\nDas sogenannte
  „Bibelteilen“ wurde in südafrikanischen Basisgemeinden entwickelt\,
  die ihr geistliches Beisammensein ohne Pfarrer zu gestalten haben. Eine
  einfache "Sieben-Schritte-Methode" schafft den Rahmen\, um sich über
  einen biblischen Text auszutauschen und ihn im Alltag wirksam werden zu
  lassen.\n\nDer Austausch im virtuellen Raum funktioniert\, wie wir seit
  Corona-Zeiten wissen\, tiptop. Es braucht dafür nicht mehr als einen
  Computer und Internet.\n\n\n\nKontakt: Pfr. Andreas Fischer\n\nWeitere
  Infos: https://www.ref-rheinfelden.ch/veranstaltung/18196
SUMMARY:Zoom-Bibelteilen
PRIORITY:5
X-MICROSOFT-CDO-IMPORTANCE:1
CLASS:PUBLIC
END:VEVENT
END:VCALENDAR
