BEGIN:VCALENDAR
PRODID:-//kirchenweb.ch gmbh//veranstaltungsausgabe v2.0//DE
VERSION:2.0
METHOD:PUBLISH
BEGIN:VEVENT
DTSTART:20260604T123000Z
DTEND:20260604T143000Z
LOCATION:Pfarrei Rheinfelden-Magden-Olsberg\, Hermann Keller-Str. 10\,
  4310 Rheinfelden
TRANSP:OPAQUE
SEQUENCE:0
UID:18176-veranstaltung@ref-rheinfelden.ch
DTSTAMP:20260415T084242Z
DESCRIPTION:Kontakt: iris.reif@ref-rheinfelden.ch\n\nWeitere Infos:
  https://www.ref-rheinfelden.ch/veranstaltung/18176
SUMMARY:Ökumenischer Seniorennachmittag
PRIORITY:5
X-MICROSOFT-CDO-IMPORTANCE:1
CLASS:PUBLIC
END:VEVENT
END:VCALENDAR
