BEGIN:VCALENDAR
PRODID:-//kirchenweb.ch gmbh//veranstaltungsausgabe v2.0//DE
VERSION:2.0
METHOD:PUBLISH
BEGIN:VEVENT
DTSTART:20261024T161500Z
DTEND:20261024T171500Z
LOCATION:Kirchgemeindehaus Gässli\, Juchstrasse 27\, 4312 Magden
TRANSP:OPAQUE
SEQUENCE:0
UID:18124-veranstaltung@ref-rheinfelden.ch
DTSTAMP:20260402T074929Z
DESCRIPTION:Miriam Terragni\, Flöte und Harald Stampa\, Gitarre\n
 \nKontakt: jutta.wurm@ref-rheinfelden.ch\n\nWeitere Infos:
  https://www.ref-rheinfelden.ch/veranstaltung/18124
SUMMARY:Konzert: Genuin
PRIORITY:5
X-MICROSOFT-CDO-IMPORTANCE:1
CLASS:PUBLIC
END:VEVENT
END:VCALENDAR
