BEGIN:VCALENDAR
PRODID:-//kirchenweb.ch gmbh//veranstaltungsausgabe v2.0//DE
VERSION:2.0
METHOD:PUBLISH
BEGIN:VEVENT
DTSTART:20260429T170000Z
DTEND:20260429T180000Z
LOCATION:Kirchgemeindehaus Robersten\, Roberstenstrasse 22\, 4310
  Rheinfelden
TRANSP:OPAQUE
SEQUENCE:0
UID:18110-veranstaltung@ref-rheinfelden.ch
DTSTAMP:20260331T091205Z
DESCRIPTION:Kontakt: Pfr. Klaus-Christian Hirte\n\nWeitere Infos:
  https://www.ref-rheinfelden.ch/veranstaltung/18110
SUMMARY:Konf-Elternabend\, K.C. Hirte
PRIORITY:5
X-MICROSOFT-CDO-IMPORTANCE:1
CLASS:PUBLIC
END:VEVENT
END:VCALENDAR
