BEGIN:VCALENDAR
PRODID:-//kirchenweb.ch gmbh//veranstaltungsausgabe v2.0//DE
VERSION:2.0
METHOD:PUBLISH
BEGIN:VEVENT
DTSTART:20261127T171500Z
DTEND:20261127T181500Z
LOCATION:Christkatholische Dorfkirche St. Gallus\, Kirchgasse\, 4303
  Kaiseraugst
TRANSP:OPAQUE
SEQUENCE:0
UID:18030-veranstaltung@ref-rheinfelden.ch
DTSTAMP:20260311T141307Z
DESCRIPTION:Was in der christkatholischen Kirche in Magden schon seit
  einem Jahr stattfindet\, kommt jetzt auch nach Kaiseraugst: Einmal im
  Monat lädt dort ein ökumenisches Team ein\, «vier Lieder»
  verschiedener – sakraler und säkularer – Stilrichtungen zu lernen
  und zu singen. Alle sind willkommen. Etwas Singerfahrung ist praktisch\,
  wird aber nicht vorausgesetzt.\nLeitung: Katharina Metzger\, Jutta Wurm\,
  Peter Feenstra und Andreas Fischer\nWeitere Daten\, jeweils Freitag\,
  18.15–19.15 Uhr:\n\nKontakt: Pfr. Andreas Fischer\, Jutta Wurm\n
 \nWeitere Infos: https://www.ref-rheinfelden.ch/veranstaltung/18030
SUMMARY:Vier Lieder am Abend
PRIORITY:5
X-MICROSOFT-CDO-IMPORTANCE:1
CLASS:PUBLIC
END:VEVENT
END:VCALENDAR
