BEGIN:VCALENDAR
PRODID:-//kirchenweb.ch gmbh//veranstaltungsausgabe v2.0//DE
VERSION:2.0
METHOD:PUBLISH
BEGIN:VEVENT
DTSTART:20260828T161500Z
DTEND:20260828T171500Z
LOCATION:Christkatholische Dorfkirche St. Gallus\, Kirchgasse\, 4303
  Kaiseraugst
TRANSP:OPAQUE
SEQUENCE:0
UID:18028-veranstaltung@ref-rheinfelden.ch
DTSTAMP:20260311T141655Z
DESCRIPTION:Einmal im Monat lädt ein ökumenisches Team ein\, «vier
  Lieder» verschiedener – sakraler und säkularer – Stilrichtungen zu
  lernen und zu singen. Alle sind willkommen. Etwas Singerfahrung ist
  praktisch\, wird aber nicht vorausgesetzt.\nLeitung: Katharina Metzger\,
  Jutta Wurm\, Peter Feenstra und Andreas Fischer\nWeitere Daten\, jeweils
  Freitag\, 18.15–19.15 Uhr: 16. Oktober\, 27. November\n\nKontakt: Pfr.
  Andreas Fischer\, Jutta Wurm\n\nWeitere Infos:
  https://www.ref-rheinfelden.ch/veranstaltung/18028
SUMMARY:Vier Lieder am Abend
PRIORITY:5
X-MICROSOFT-CDO-IMPORTANCE:1
CLASS:PUBLIC
END:VEVENT
END:VCALENDAR
