BEGIN:VCALENDAR
PRODID:-//kirchenweb.ch gmbh//veranstaltungsausgabe v2.0//DE
VERSION:2.0
METHOD:PUBLISH
BEGIN:VEVENT
DTSTART:20260530T061500Z
DTEND:20260530T090000Z
LOCATION:Kath. Kirche Rheinfelden\, Hermann-Keller-Strasse 10\, 4310
  Rheinfelden
TRANSP:OPAQUE
SEQUENCE:0
UID:17963-veranstaltung@ref-rheinfelden.ch
DTSTAMP:20260304T153557Z
DESCRIPTION:FFF\n Samstag\, 30. Mai 2026\nDas FFF wird von einem
  Frauen-Team der katholischen und reformierten Kirche vorbereitet und
  findet 2x pro Jahr statt. Das Frühstück steht ab 8.15 Uhr bereit. Start
  des offiziellen Programms mit Musik\, Referat und Diskussion ist um 9.00
  Uhr.\n\nZielpublikum \nFrauen jeden Alters sind herzlich eingeladen.  \n
 \n\n\n\nKontakt: andrea.boschbach@ref-rheinfelden.ch\n\nWeitere Infos:
  https://www.ref-rheinfelden.ch/veranstaltung/17963
SUMMARY:FFF - Forum Frauen Frühstück
PRIORITY:5
X-MICROSOFT-CDO-IMPORTANCE:1
CLASS:PUBLIC
END:VEVENT
END:VCALENDAR
