BEGIN:VCALENDAR
PRODID:-//kirchenweb.ch gmbh//veranstaltungsausgabe v2.0//DE
VERSION:2.0
METHOD:PUBLISH
BEGIN:VEVENT
DTSTART:20261211T181500Z
DTEND:20261211T191500Z
LOCATION:Christikatholische Kirche St. Gallus\, \, 4303 Kaiseraugst
TRANSP:OPAQUE
SEQUENCE:0
UID:17885-veranstaltung@ref-rheinfelden.ch
DTSTAMP:20260204T103522Z
DESCRIPTION:»Der Glaube\, das Vertrauen auf Gott\, ist etwas ganz
  Einfaches... Er ist wie ein Schritt\, den wir tausendfach von neuem tun\,
  ein Leben lang\, bis zum letzten Atemzug.«\n(Frère Roger Schutz\,
  Pfarrer\, Gründer und langjähriger Prior von Taizé)\n\nIn diesem Geist
  der Einfachheit feiern wir monatlich einmal Gottesdienst – mit Gebet\,
  Stille und den typischen\, mehrfach\, mehrsprachig und mehrstimmig
  gesungenen Taizé-Liedern.\n\nDiese Taizéfeier findet in der
  christkatholischen Dorfkirche St. Gallus statt!\n\nMit Pfr. Andreas
  Fischer und Jutta Wurm\n\nKontakt: Pfr. Andreas Fischer\n\nWeitere Infos:
  https://www.ref-rheinfelden.ch/veranstaltung/17885
SUMMARY:Taizé-Feier
PRIORITY:5
X-MICROSOFT-CDO-IMPORTANCE:1
CLASS:PUBLIC
END:VEVENT
END:VCALENDAR
