BEGIN:VCALENDAR
PRODID:-//kirchenweb.ch gmbh//veranstaltungsausgabe v2.0//DE
VERSION:2.0
METHOD:PUBLISH
BEGIN:VEVENT
DTSTART:20260619T171500Z
DTEND:20260619T181500Z
LOCATION:Kirchgemeindehaus Kaiseraugst\, Kraftwerkstrasse 8\, 4303
  Kaiseraugst
TRANSP:OPAQUE
SEQUENCE:0
UID:17879-veranstaltung@ref-rheinfelden.ch
DTSTAMP:20260416T135110Z
DESCRIPTION:»Der Glaube\, das Vertrauen auf Gott\, ist etwas ganz
  Einfaches... Er ist wie ein Schritt\, den wir tausendfach von neuem tun\,
  ein Leben lang\, bis zum letzten Atemzug.«\n(Frère Roger Schutz\,
  Pfarrer\, Gründer und langjähriger Prior von Taizé)\n\nIn diesem Geist
  der Einfachheit feiern wir monatlich einmal Gottesdienst – mit Gebet\,
  Stille und den typischen\, mehrfach\, mehrsprachig und mehrstimmig
  gesungenen Taizé-Liedern.\n\nMit Pfr. Andreas Fischer\, stud. theol.
  Silja Schreiner und Jutta Wurm\n\n---\n\nZum Thema:\nIn den Taizéfeiern
  im ersten Halbjahr 2026 vertiefen wir uns in die "Cantica"\, die
  hymnischen Gesänge in den Kindheitsgeschichten des Lukasevangeliums (Lk
  1-2). Diesmal\, kurz vor dem Johannistag (24. Juni)\, wird es das
  "Benedictus" sein\, der Lobgesang des Zacharias nach der Geburt seines
  Sohnes\, Johannes dem Täufer:\n\n68 Gepriesen sei der Herr\, der Gott
  Israels! Denn er hat sich seines Volkes angenommen und ihm Erlösung
  verschafft 69 und uns aufgerichtet ein Horn des Heils im Hause Davids\,
  seines Knechtes\, 70 wie er es versprochen hat durch den Mund seiner
  heiligen Propheten von Ewigkeit her\, 71 uns zu retten vor unseren
  Feinden und aus der Hand aller\, die uns hassen\, 72 Barmherzigkeit zu
  erweisen unseren Vätern und seines heiligen Bundes zu gedenken\, 73
  des Eides\, den er unserem Vater Abraham geschworen hat\, uns zu
  gewähren\, 74 dass wir\, errettet aus der Hand der Feinde\, ihm ohne
  Furcht dienen 75 in Heiligkeit und Gerechtigkeit vor ihm all unsere
  Tage. 76 Und du\, Kind\, wirst Prophet des Höchsten genannt werden\,
  denn du wirst vor dem Herrn hergehen\, seine Wege zu bereiten\, 77
  Erkenntnis des Heils zu geben seinem Volk durch die Vergebung ihrer
  Sünden\, 78 aufgrund des herzlichen Erbarmens unseres Gottes\, mit dem
  das aufgehende Licht aus der Höhe uns besuchen will\, 79 um zu
  leuchten denen\, die in Finsternis und Todesschatten sitzen\, um zu
  lenken unsere Füsse auf den Weg des Friedens.\n(Lk 1\, 68-79)\n\n
 \nKontakt: Pfr. Andreas Fischer\n\nWeitere Infos:
  https://www.ref-rheinfelden.ch/veranstaltung/17879
SUMMARY:"Benedictus": Taizé-Feier mit Abendmahl und Meditation zum
  Lobgesang des Zacharias (Lk 1\, 68-79)
PRIORITY:5
X-MICROSOFT-CDO-IMPORTANCE:1
CLASS:PUBLIC
END:VEVENT
END:VCALENDAR
