BEGIN:VCALENDAR
PRODID:-//kirchenweb.ch gmbh//veranstaltungsausgabe v2.0//DE
VERSION:2.0
METHOD:PUBLISH
BEGIN:VEVENT
DTSTART:20260522T171500Z
DTEND:20260522T181500Z
LOCATION:Kirchgemeindehaus Kaiseraugst\, Kraftwerkstrasse 8\, 4303
  Kaiseraugst
TRANSP:OPAQUE
SEQUENCE:0
UID:17878-veranstaltung@ref-rheinfelden.ch
DTSTAMP:20260416T134454Z
DESCRIPTION:»Der Glaube\, das Vertrauen auf Gott\, ist etwas ganz
  Einfaches... Er ist wie ein Schritt\, den wir tausendfach von neuem tun\,
  ein Leben lang\, bis zum letzten Atemzug.«\n(Frère Roger Schutz\,
  Pfarrer\, Gründer und langjähriger Prior von Taizé)\n\nIn diesem Geist
  der Einfachheit feiern wir monatlich einmal Gottesdienst – mit Gebet\,
  Stille und den typischen\, mehrfach\, mehrsprachig und mehrstimmig
  gesungenen Taizé-Liedern.\n\n---\n\nZum Thema:\nIn den Taizéfeiern im
  ersten Halbjahr 2026 vertiefen wir uns in die "Cantica"\, die hymnischen
  Gesänge in den Kindheitsgeschichten des Lukasevangeliums (Lk 1-2).
  Diesmal wird es das berühmte "Magnificat" sein\, der Lobgesang der
  Maria:\n\n46 Und Maria sprach: Meine Seele erhebt den Herrn\, 47 und
  mein Geist jubelt über Gott\, meinen Retter\, 48 denn hingesehen hat
  er auf die Niedrigkeit seiner Magd. Siehe\, von nun an werden mich
  seligpreisen alle Geschlechter\, 49 denn Grosses hat der Mächtige an
  mir getan. Und heilig ist sein Name\, 50 und seine Barmherzigkeit gilt
  von Geschlecht zu Geschlecht denen\, die ihn fürchten. 51 Gewaltiges
  hat er vollbracht mit seinem Arm\, zerstreut hat er\, die hochmütig sind
  in ihrem Herzen\, 52 Mächtige hat er vom Thron gestürzt und Niedrige
  erhöht\, 53 Hungrige hat er gesättigt mit Gutem und Reiche leer
  ausgehen lassen. 54 Er hat sich Israels\, seines Knechtes\, angenommen
  und seiner Barmherzigkeit gedacht\, 55 wie er es unseren Vätern
  versprochen hat\, Abraham und seinen Nachkommen in Ewigkeit.\n(Lk 1\,
  46-55)\n\nMit Pfr. Andreas Fischer\, stud. theol. Silja Schreiner und
  Jutta Wurm\n\nKontakt: Pfr. Andreas Fischer\n\nWeitere Infos:
  https://www.ref-rheinfelden.ch/veranstaltung/17878
SUMMARY:"Magnificat": Taizé-Feier mit Abendmahl und Meditation zum
  Lobgesang der Maria (Lk 1\, 46-55)
PRIORITY:5
X-MICROSOFT-CDO-IMPORTANCE:1
CLASS:PUBLIC
END:VEVENT
END:VCALENDAR
