BEGIN:VCALENDAR
PRODID:-//kirchenweb.ch gmbh//veranstaltungsausgabe v2.0//DE
VERSION:2.0
METHOD:PUBLISH
BEGIN:VEVENT
DTSTART:20260320T181500Z
DTEND:20260320T191500Z
LOCATION:Kirchgemeindehaus Kaiseraugst\, Kraftwerkstrasse 8\, 4303
  Kaiseraugst
TRANSP:OPAQUE
SEQUENCE:0
UID:17876-veranstaltung@ref-rheinfelden.ch
DTSTAMP:20260317T003629Z
DESCRIPTION:»Der Glaube\, das Vertrauen auf Gott\, ist etwas ganz
  Einfaches... Er ist wie ein Schritt\, den wir tausendfach von neuem tun\,
  ein Leben lang\, bis zum letzten Atemzug.«\n(Frère Roger Schutz\,
  Pfarrer\, Gründer und langjähriger Prior von Taizé)\n\nIn diesem Geist
  der Einfachheit feiern wir monatlich einmal Gottesdienst – mit Gebet\,
  Stille\, Abendmahl und den typischen\, mehrfach\, mehrsprachig und
  mehrstimmig gesungenen Taizé-Liedern.\n\nMit Pfr. Andreas Fischer\,
  stud. theol. Silja Schreiner und Jutta Wurm\n\nZum Thema:\n\nMitten in
  der Passionszeit\, neun Monate vor Weihnachten\, feiert die Christenheit
  am 25. März Mariä Verkündigung\, gemäss Martin Luther „eins der
  fürnehmsten Feste“. In einer kurzen Meditation vertiefen wir uns
  deshalb in dieser Taizéfeier wenige Tage vor dem Hochfest in die
  entsprechende biblische Geschichte\, in welcher der Engel Gabriel sein
  „Ave Maria“ spricht: „Sei gegrüßt\, du Begnadete\, der Herr ist
  mit dir!“ (Lukas 1\, 26-38)\n\n\nKontakt: Pfr. Andreas Fischer\n
 \nWeitere Infos: https://www.ref-rheinfelden.ch/veranstaltung/17876
SUMMARY:"Ave Maria": Taizé-Feier mit Abendmahl\, kurz vor dem Fest
  "Mariä Verkündigung"
PRIORITY:5
X-MICROSOFT-CDO-IMPORTANCE:1
CLASS:PUBLIC
END:VEVENT
END:VCALENDAR
