BEGIN:VCALENDAR
PRODID:-//kirchenweb.ch gmbh//veranstaltungsausgabe v2.0//DE
VERSION:2.0
METHOD:PUBLISH
BEGIN:VEVENT
DTSTART:20260802T080000Z
DTEND:20260802T090000Z
LOCATION:Kirchgemeindehaus Gässli\, Juchstrasse 27\, 4312 Magden
TRANSP:OPAQUE
SEQUENCE:0
UID:17828-veranstaltung@ref-rheinfelden.ch
DTSTAMP:20260204T095818Z
DESCRIPTION:Gottesdienst für die Gesamtgemeinde\n\nKontakt: Pfr. Peter
  Senn\n\nWeitere Infos: https://www.ref-rheinfelden.ch/veranstaltung/17828
SUMMARY:Gottesdienst Gässli
PRIORITY:5
X-MICROSOFT-CDO-IMPORTANCE:1
CLASS:PUBLIC
END:VEVENT
END:VCALENDAR
