BEGIN:VCALENDAR
PRODID:-//kirchenweb.ch gmbh//veranstaltungsausgabe v2.0//DE
VERSION:2.0
METHOD:PUBLISH
BEGIN:VEVENT
DTSTART:20260621T080000Z
DTEND:20260621T090000Z
LOCATION:Iglingerhof\, Iglingerhof 234\, 4312 Magden
TRANSP:OPAQUE
SEQUENCE:0
UID:17827-veranstaltung@ref-rheinfelden.ch
DTSTAMP:20260325T111731Z
DESCRIPTION:Familiengottesdienst mit Taufen\nMitwirkung von
  Relischüler:innen\n\nKontakt: Pfr. Peter Senn\n\nWeitere Infos:
  https://www.ref-rheinfelden.ch/veranstaltung/17827
SUMMARY:Familiengottesdienst Iglingerhof
PRIORITY:5
X-MICROSOFT-CDO-IMPORTANCE:1
CLASS:PUBLIC
END:VEVENT
END:VCALENDAR
