BEGIN:VCALENDAR
PRODID:-//kirchenweb.ch gmbh//veranstaltungsausgabe v2.0//DE
VERSION:2.0
METHOD:PUBLISH
BEGIN:VEVENT
DTSTART:20260510T090000Z
DTEND:20260510T100000Z
LOCATION:Galgen Magden\, \,
TRANSP:OPAQUE
SEQUENCE:0
UID:17823-veranstaltung@ref-rheinfelden.ch
DTSTAMP:20260330T160849Z
DESCRIPTION:Oekumenischer Gottesdienst beim Galgen in Magden\nPfr. Peter
  Feenstra\, Pfr. Peter Senn\nMitwirkung des Gemischten Chors Magden\n
 \nKontakt: Pfr. Peter Senn\n\nWeitere Infos:
  https://www.ref-rheinfelden.ch/veranstaltung/17823
SUMMARY:Oekumenischer Gottesdienst
PRIORITY:5
X-MICROSOFT-CDO-IMPORTANCE:1
CLASS:PUBLIC
END:VEVENT
END:VCALENDAR
