BEGIN:VCALENDAR
PRODID:-//kirchenweb.ch gmbh//veranstaltungsausgabe v2.0//DE
VERSION:2.0
METHOD:PUBLISH
BEGIN:VEVENT
DTSTART:20260301T100000Z
DTEND:20260301T110000Z
LOCATION:Kirchgemeindehaus Gässli\, Juchstrasse 27\, 4312 Magden
TRANSP:OPAQUE
SEQUENCE:0
UID:17822-veranstaltung@ref-rheinfelden.ch
DTSTAMP:20260216T144515Z
DESCRIPTION:Die Leitthemen der diesjährigen ökumenischen Aktion werden
  auch unseren gemeinsamen Fastenaktions-Gottesdienst bestimmen.\nDie
  aktuelle Weltlage erscheint nicht sehr hoffnungsvoll. Eigennutz und
  Bereicherung auf Kosten von anderen sind wieder salonfähig geworden.
  Zukunftsträchtige Visionen eines gemeinschaftlichen Angehens der
  Herausforderungen\, die die ganze Menschheit betreffen\, werden
  belächelt. \nDie Fastenaktion\, die unsere kirchlichen Hilfswerke
  vorbereiten\, setzt wie immer einen Gegenpunkt. Wir werden eingeladen\,
  auf eine Zukunft hinzuarbeiten\, die alle miteinbezieht. Ein
  Zusammenleben\, das gerechte Beziehungen unter den Menschen fördert.\nEs
  wirken mit: Pfr. Peter Feenstra\, Pfr. Florian Piller\, Pfr. Peter Senn\n
 \nKontakt: Pfr. Peter Senn\n\nWeitere Infos:
  https://www.ref-rheinfelden.ch/veranstaltung/17822
SUMMARY:Zukunft und Hoffnung säen: Oekumenischer Gottesdienst im Gässli
PRIORITY:5
X-MICROSOFT-CDO-IMPORTANCE:1
CLASS:PUBLIC
END:VEVENT
END:VCALENDAR
