BEGIN:VCALENDAR
PRODID:-//kirchenweb.ch gmbh//veranstaltungsausgabe v2.0//DE
VERSION:2.0
METHOD:PUBLISH
BEGIN:VEVENT
DTSTART:20260918T150000Z
DTEND:20260918T153000Z
LOCATION:Kirchgemeindehaus Gässli\, Juchstrasse 27\, 4312 Magden
TRANSP:OPAQUE
SEQUENCE:0
UID:17817-veranstaltung@ref-rheinfelden.ch
DTSTAMP:20260312T101148Z
DESCRIPTION:Das Fiire mit de Chliine ist ein Gottesdienst der drei
  Landeskirchen für Kinder vor allem im Vorschulalter. Ältere Geschwister
  sind selbstverständlich auch herzlich willkommen. Rund um eine biblische
  Geschichte oder ein biblisches Thema wird gesungen\, gemalt\, gebastelt
  oder ein Bodenbild gestaltet. \n\nAnschliessend sind alle ganz herzlich
  zu Brötli\, Moscht und Guetzli ins Foyer eingeladen.\n\nKontakt: Pfr.
  Peter Senn\n\nWeitere Infos:
  https://www.ref-rheinfelden.ch/veranstaltung/17817
SUMMARY:Fiire mit de Chliine Magden
PRIORITY:5
X-MICROSOFT-CDO-IMPORTANCE:1
CLASS:PUBLIC
END:VEVENT
END:VCALENDAR
