BEGIN:VCALENDAR
PRODID:-//kirchenweb.ch gmbh//veranstaltungsausgabe v2.0//DE
VERSION:2.0
METHOD:PUBLISH
BEGIN:VEVENT
DTSTART:20260511T180000Z
DTEND:20260511T193000Z
LOCATION:Kirchgemeindehaus Rheinfelden\, Roberstenstrasse 22\, 
  Rheinfelden
TRANSP:OPAQUE
SEQUENCE:0
UID:17776-veranstaltung@ref-rheinfelden.ch
DTSTAMP:20260317T211023Z
DESCRIPTION:Zum „Feierabend“ sind alle Interessierten herzlich
  eingeladen: \nWir singen Lieder\, lesen und diskutieren einen biblischen
  Text und lassen danach den Abend bei einer Tasse Tee ausklingen.\nWer
  Lust und Zeit hat\, darf einfach kommen\, spontan und ohne Anmeldung.\n
 \nKontakt: jonas.meier\n\nWeitere Infos:
  https://www.ref-rheinfelden.ch/veranstaltung/17776
SUMMARY:Feierabend
PRIORITY:5
X-MICROSOFT-CDO-IMPORTANCE:1
CLASS:PUBLIC
END:VEVENT
END:VCALENDAR
