BEGIN:VCALENDAR
PRODID:-//kirchenweb.ch gmbh//veranstaltungsausgabe v2.0//DE
VERSION:2.0
METHOD:PUBLISH
BEGIN:VEVENT
DTSTART:20261115T090000Z
DTEND:20261115T100000Z
LOCATION:Evang.-Ref. Kirche Rheinfelden\, Zürcherstrasse 1\, 4310
  Rheinfelden
TRANSP:OPAQUE
SEQUENCE:0
UID:17692-veranstaltung@ref-rheinfelden.ch
DTSTAMP:20260119T142055Z
DESCRIPTION:Kontakt: jonas.meier\n\nWeitere Infos:
  https://www.ref-rheinfelden.ch/veranstaltung/17692
SUMMARY:Gottesdienst Plus
PRIORITY:5
X-MICROSOFT-CDO-IMPORTANCE:1
CLASS:PUBLIC
END:VEVENT
END:VCALENDAR
