BEGIN:VCALENDAR
PRODID:-//kirchenweb.ch gmbh//veranstaltungsausgabe v2.0//DE
VERSION:2.0
METHOD:PUBLISH
BEGIN:VEVENT
DTSTART:20261112T190000Z
DTEND:20261112T203000Z
LOCATION:Kirchgemeindehaus Robersten\, Roberstenstrasse 22\, 4310
  Rheinfelden
TRANSP:OPAQUE
SEQUENCE:0
UID:17686-veranstaltung@ref-rheinfelden.ch
DTSTAMP:20260105T141148Z
DESCRIPTION:Kontakt: Monica Schweizer\, Edna Furrer\n\nWeitere Infos:
  https://www.ref-rheinfelden.ch/veranstaltung/17686
SUMMARY:Kirchgemeindeversammlung
PRIORITY:5
X-MICROSOFT-CDO-IMPORTANCE:1
CLASS:PUBLIC
END:VEVENT
END:VCALENDAR
