BEGIN:VCALENDAR
PRODID:-//kirchenweb.ch gmbh//veranstaltungsausgabe v2.0//DE
VERSION:2.0
METHOD:PUBLISH
BEGIN:VEVENT
DTSTART:20260903T110000Z
DTEND:20260903T160000Z
LOCATION:Kirchgemeindehaus Robersten\, Roberstenstrasse 22\, 4310
  Rheinfelden
TRANSP:OPAQUE
SEQUENCE:0
UID:17617-veranstaltung@ref-rheinfelden.ch
DTSTAMP:20251128T113653Z
DESCRIPTION:Kontakt: klaus-christian.hirte@ref-rheinfelden.ch\n\nWeitere
  Infos: https://www.ref-rheinfelden.ch/veranstaltung/17617
SUMMARY:Teamnachmittag Laienseelsorge
PRIORITY:5
X-MICROSOFT-CDO-IMPORTANCE:1
CLASS:PUBLIC
END:VEVENT
END:VCALENDAR
