BEGIN:VCALENDAR
PRODID:-//kirchenweb.ch gmbh//veranstaltungsausgabe v2.0//DE
VERSION:2.0
METHOD:PUBLISH
BEGIN:VEVENT
DTSTART:20261121T150000Z
DTEND:20261121T160000Z
LOCATION:Evang.-Ref. Kirche Rheinfelden\, Zürcherstrasse 1\, 4310
  Rheinfelden
TRANSP:OPAQUE
SEQUENCE:0
UID:17524-veranstaltung@ref-rheinfelden.ch
DTSTAMP:20251125T160526Z
DESCRIPTION:Für  Kinder ab 3 bis 103 Jahre.\n\nZu den Klängen
  zahlreicher und überraschender alter Blasinstrumente erleben Sie mit uns
  das Märchen Dornröschen neu.\n\nDauer ca. 50 Minuten\n\n\n\nKontakt:
  Sekretariat\n\nWeitere Infos:
  https://www.ref-rheinfelden.ch/veranstaltung/17524
SUMMARY:Dornröschen - ein musikalisches Puppenspiel
PRIORITY:5
X-MICROSOFT-CDO-IMPORTANCE:1
CLASS:PUBLIC
END:VEVENT
END:VCALENDAR
