BEGIN:VCALENDAR
PRODID:-//kirchenweb.ch gmbh//veranstaltungsausgabe v2.0//DE
VERSION:2.0
METHOD:PUBLISH
BEGIN:VEVENT
DTSTART:20261119T183000Z
DTEND:20261119T210000Z
LOCATION:Kirchgemeindehaus Gässli\, Juchstrasse 27\, 4312 Magden
TRANSP:OPAQUE
SEQUENCE:0
UID:17512-veranstaltung@ref-rheinfelden.ch
DTSTAMP:20251110T100528Z
DESCRIPTION:Kontakt: frauenkino@frauenverein-magden.ch\n\nWeitere Infos:
  https://www.ref-rheinfelden.ch/veranstaltung/17512
SUMMARY:FrauenKiono
PRIORITY:5
X-MICROSOFT-CDO-IMPORTANCE:1
CLASS:PUBLIC
END:VEVENT
END:VCALENDAR
