BEGIN:VCALENDAR
PRODID:-//kirchenweb.ch gmbh//veranstaltungsausgabe v2.0//DE
VERSION:2.0
METHOD:PUBLISH
BEGIN:VEVENT
DTSTART:20260318T131500Z
DTEND:20260318T153000Z
LOCATION:Kirchgemeindehaus Robersten\, Roberstenstrasse 22\, 4310
  Rheinfelden
TRANSP:OPAQUE
SEQUENCE:0
UID:17412-veranstaltung@ref-rheinfelden.ch
DTSTAMP:20260318T082320Z
DESCRIPTION:Schockanrufe und Trickbetrug \nEine Präventionsveranstaltung
  der Kantonspolizei Aargau \nzur Sicherheit im Alter\n\nVor allem ältere
  Menschen werden bevorzugt von Betrügern angegangen. Ob durch Betrug am
  Telefon\, im Internet oder durch die neuen Medien\, die Betrugszahlen
  steigen. Seniorinnen und Senioren werden in der Regel als «leichte
  Opfer» angesehen. Es kann jeden treffen.         \nIn dieser
  Präventionsveranstaltung werden Betrugsmaschen aufgezeigt und wie man
  Gefahren erkennen und sich schützen kann.\n\nWir freuen uns auf einen
  spannenden Nachmittag anschliessend wie immer verbunden mit einem feinen
  Zvieri und geselligem Zusammensein. \n\n\nKontakt: Iris Reif\n\nWeitere
  Infos: https://www.ref-rheinfelden.ch/veranstaltung/17412
SUMMARY:ALTERnativ-Nachmittag
PRIORITY:5
X-MICROSOFT-CDO-IMPORTANCE:1
CLASS:PUBLIC
END:VEVENT
END:VCALENDAR
