BEGIN:VCALENDAR
PRODID:-//kirchenweb.ch gmbh//veranstaltungsausgabe v2.0//DE
VERSION:2.0
METHOD:PUBLISH
BEGIN:VEVENT
DTSTART:20261110T183000Z
DTEND:20261110T193000Z
LOCATION:Evang.-Ref. Kirche Rheinfelden\, Zürcherstrasse 1\, 4310
  Rheinfelden
TRANSP:OPAQUE
SEQUENCE:0
UID:17409-veranstaltung@ref-rheinfelden.ch
DTSTAMP:20251113T134307Z
DESCRIPTION:Kontakt: jutta.wurm@ref-rheinfelden.ch\n\nWeitere Infos:
  https://www.ref-rheinfelden.ch/veranstaltung/17409
SUMMARY:Jahreskonzert des Gospelchores 1
PRIORITY:5
X-MICROSOFT-CDO-IMPORTANCE:1
CLASS:PUBLIC
END:VEVENT
END:VCALENDAR
