BEGIN:VCALENDAR
PRODID:-//kirchenweb.ch gmbh//veranstaltungsausgabe v2.0//DE
VERSION:2.0
METHOD:PUBLISH
BEGIN:VEVENT
DTSTART:20260919T161500Z
DTEND:20260919T171500Z
LOCATION:Kirchgemeindehaus Kaiseraugst\, Kraftwerkstrasse 8\, 4303
  Kaiseraugst
TRANSP:OPAQUE
SEQUENCE:0
UID:17407-veranstaltung@ref-rheinfelden.ch
DTSTAMP:20251113T134230Z
DESCRIPTION:Ferdi Rauber (Obertongesang und Naturtonmusik) und Assel
  Abilseitova\, Klavier\n\nKontakt: jutta.wurm@ref-rheinfelden.ch\n
 \nWeitere Infos: https://www.ref-rheinfelden.ch/veranstaltung/17407
SUMMARY:Konzert: crossover
PRIORITY:5
X-MICROSOFT-CDO-IMPORTANCE:1
CLASS:PUBLIC
END:VEVENT
END:VCALENDAR
