BEGIN:VCALENDAR
PRODID:-//kirchenweb.ch gmbh//veranstaltungsausgabe v2.0//DE
VERSION:2.0
METHOD:PUBLISH
BEGIN:VEVENT
DTSTART:20260606T170000Z
DTEND:20260606T180000Z
LOCATION:Evang.-Ref. Kirche Rheinfelden\, Zürcherstrasse 1\, 4310
  Rheinfelden
TRANSP:OPAQUE
SEQUENCE:0
UID:17406-veranstaltung@ref-rheinfelden.ch
DTSTAMP:20251113T134106Z
DESCRIPTION:Vaclav Hrebec\n\n\nKontakt: jutta.wurm@ref-rheinfelden.ch\n
 \nWeitere Infos: https://www.ref-rheinfelden.ch/veranstaltung/17406
SUMMARY:Orgelkonzert
PRIORITY:5
X-MICROSOFT-CDO-IMPORTANCE:1
CLASS:PUBLIC
END:VEVENT
END:VCALENDAR
