BEGIN:VCALENDAR
PRODID:-//kirchenweb.ch gmbh//veranstaltungsausgabe v2.0//DE
VERSION:2.0
METHOD:PUBLISH
BEGIN:VEVENT
DTSTART:20260509T161500Z
DTEND:20260509T171500Z
LOCATION:Kirchgemeindehaus Gässli\, Juchstrasse 27\, 4312 Magden
TRANSP:OPAQUE
SEQUENCE:0
UID:17405-veranstaltung@ref-rheinfelden.ch
DTSTAMP:20260416T125638Z
DESCRIPTION:«Versuchung»\nSünde und Keuschheit aus geistlicher und
  weltlicher Perspektive; Vokalmusik aus allen Epochen\, mit und ohne
  Klavierbegleitung.\n\nEnsemble •chorus mysticus•: \nNadine Nenning\,
  Sopran;\nLucile Bailly-Gourevitch\, Alt; \nAlberto Palacios\, Tenor; 
 \nSebastian Kunz\, Bariton; \nLukas Sehr\, Bass/Klavier & Leitung\n
 \nKontakt: Musikkommission\n\nWeitere Infos:
  https://www.ref-rheinfelden.ch/veranstaltung/17405
SUMMARY:Konzert: chorus mysticus
PRIORITY:5
X-MICROSOFT-CDO-IMPORTANCE:1
CLASS:PUBLIC
END:VEVENT
END:VCALENDAR
