BEGIN:VCALENDAR
PRODID:-//kirchenweb.ch gmbh//veranstaltungsausgabe v2.0//DE
VERSION:2.0
METHOD:PUBLISH
BEGIN:VEVENT
DTSTART:20260314T181500Z
DTEND:20260314T191500Z
LOCATION:Kirchgemeindehaus Kaiseraugst\, Kraftwerkstrasse 8\, 4303
  Kaiseraugst
TRANSP:OPAQUE
SEQUENCE:0
UID:17404-veranstaltung@ref-rheinfelden.ch
DTSTAMP:20260306T095624Z
DESCRIPTION:Am Samstag\, 14. März um 19.15 Uhr wird im Kirchgemeindehaus
  Kaiseraugst eine hochkarätige Formation – unter anderem mit den in
  unserer Kirchgemeinde bestens bekannten
  https://www.ref-rheinfelden.ch/bericht/1345 und
  https://www.ref-rheinfelden.ch/bericht/1603 – Franz Schuberts
  Klavierquintett in A-Dur vortragen.\n\nIm Vierten Satz des Werks wird
  deutlich\, warum es den Namen „Forellenquintett“ trägt. Die
  Melodie\, die da erklingt und dann variiert wird\, stammt aus Schuberts
  Kunstlied „Die Forelle“\, der Vertonung eines Gedichts des deutschen
  Dichters Christian Friedrich Daniel Schubart (1739-1791).\n\nIn seiner
  launigen Ausschreibung des Anlasses hält Philippe Schnepp fest: «Die
  muntere Forelle\, die wie ein Pfeil hin und her schiesst\, lässt sich
  vom Fischer nicht fangen\, zu geschickt ist der Fisch.» Das können
  Fischer und Wurm\, wiewohl beide Vegetarier\, so nicht gelten lassen. Sie
  nutzen die altehrwürdige Tradition\, dass bei den Kaiseraugster Soirées
  jeweils die Musik durch Worte ergänzt werden\, um ihre eigene Sicht
  darzulegen. In Schubarts Gedicht ist die Rede davon\, dass die Rute zucke
  und das Fischlein dran zapple – was aber\, wie zu sehen sein wird\,
  symbolischen Sinn hat.\n\nHerzliche Einladung zur Soirée – auch an
  jene\, die sich nicht für das Gedicht und dessen Auslegung
  interessieren. Im Zentrum des Abends steht die Musik. Und anschliessend
  gibt’s Apero. Der Eintritt ist frei.\n\nEnsemble:\nTiffany Butt\,
  Klavier; \nLászló Fogarassy\, Violine;  \nAndra Ulrichs Kreder\, Viola;
  \nAline Schnepp\, Violoncello; \nPhilippe Schnepp\, Kontrabass\n
 \nKontakt: Pfr. Andreas Fischer\n\nWeitere Infos:
  https://www.ref-rheinfelden.ch/veranstaltung/17404
SUMMARY:Soirée mit Schuberts Forellenquintett
PRIORITY:5
X-MICROSOFT-CDO-IMPORTANCE:1
CLASS:PUBLIC
END:VEVENT
END:VCALENDAR
