BEGIN:VCALENDAR
PRODID:-//kirchenweb.ch gmbh//veranstaltungsausgabe v2.0//DE
VERSION:2.0
METHOD:PUBLISH
BEGIN:VEVENT
DTSTART:20260315T170000Z
DTEND:20260315T180000Z
LOCATION:Evang.-Ref. Kirche Rheinfelden\, Zürcherstrasse 1\, 4310
  Rheinfelden
TRANSP:OPAQUE
SEQUENCE:0
UID:17368-veranstaltung@ref-rheinfelden.ch
DTSTAMP:20260218T093459Z
DESCRIPTION:Mutig – stark – beherzt \n\nDAG- Gottesdienst am 15. März
  um 18 Uhr in der Reformierten Kirche\n\nMut ist wie ein Regenschirm: Wenn
  man ihn am dringendsten braucht\, dann fehlt er einem - hat mal jemand
  gesagt. Kriege\, gesellschaftliche Veränderungen\, aber auch ganz
  persönliche Schicksalsschläge – vieles kann uns den Mut rauben\, uns
  für unsere Vorstellung von der Welt\, für unsere Wünsche und für
  Veränderungen einzusetzen. Was ist eigentlich Mut? Wie finden wir ihn?
  Was ist das Mutigste\, was wir je getan haben? Warum ist es leichter in
  der Gemeinschaft\, mit anderen zusammen\, Mut zu fassen? Vom Mut in
  unsicheren Zeiten handelt dieser Gottesdienst. Musikalisch gestalten wird
  ihn Ayelet Karni mit Flöte und Oboe. \n\n\nKontakt: Pfr. Klaus-Christian
  Hirte\n\nWeitere Infos:
  https://www.ref-rheinfelden.ch/veranstaltung/17368
SUMMARY:DAG - Der Andere Gottesdienst
PRIORITY:5
X-MICROSOFT-CDO-IMPORTANCE:1
CLASS:PUBLIC
END:VEVENT
END:VCALENDAR
