BEGIN:VCALENDAR
PRODID:-//kirchenweb.ch gmbh//veranstaltungsausgabe v2.0//DE
VERSION:2.0
METHOD:PUBLISH
BEGIN:VEVENT
DTSTART:20261224T210000Z
DTEND:20261224T220000Z
LOCATION:Evang.-Ref. Kirche Rheinfelden\, Zürcherstrasse 1\, 4310
  Rheinfelden
TRANSP:OPAQUE
SEQUENCE:0
UID:17366-veranstaltung@ref-rheinfelden.ch
DTSTAMP:20260108T160054Z
DESCRIPTION:Kontakt: jonas.meier\n\nWeitere Infos:
  https://www.ref-rheinfelden.ch/veranstaltung/17366
SUMMARY:Gottesdienst zur Christnacht
PRIORITY:5
X-MICROSOFT-CDO-IMPORTANCE:1
CLASS:PUBLIC
END:VEVENT
END:VCALENDAR
