BEGIN:VCALENDAR
PRODID:-//kirchenweb.ch gmbh//veranstaltungsausgabe v2.0//DE
VERSION:2.0
METHOD:PUBLISH
BEGIN:VEVENT
DTSTART:20261224T153000Z
DTEND:20261224T163000Z
LOCATION:Evang.-Ref. Kirche Rheinfelden\, Zürcherstrasse 1\, 4310
  Rheinfelden
TRANSP:OPAQUE
SEQUENCE:0
UID:17365-veranstaltung@ref-rheinfelden.ch
DTSTAMP:20260108T160038Z
DESCRIPTION:Kontakt: Pfrn. Laura Klingenberg\n\nWeitere Infos:
  https://www.ref-rheinfelden.ch/veranstaltung/17365
SUMMARY:LichterTragen: Einstimmung zum Heiligabend
PRIORITY:5
X-MICROSOFT-CDO-IMPORTANCE:1
CLASS:PUBLIC
END:VEVENT
END:VCALENDAR
