BEGIN:VCALENDAR
PRODID:-//kirchenweb.ch gmbh//veranstaltungsausgabe v2.0//DE
VERSION:2.0
METHOD:PUBLISH
BEGIN:VEVENT
DTSTART:20261004T080000Z
DTEND:20261004T090000Z
LOCATION:Evang.-Ref. Kirche Rheinfelden\, Zürcherstrasse 1\, 4310
  Rheinfelden
TRANSP:OPAQUE
SEQUENCE:0
UID:17357-veranstaltung@ref-rheinfelden.ch
DTSTAMP:20251119T104040Z
DESCRIPTION:Kontakt: NN\n\nWeitere Infos:
  https://www.ref-rheinfelden.ch/veranstaltung/17357
SUMMARY:Gottesdienst in Rhf
PRIORITY:5
X-MICROSOFT-CDO-IMPORTANCE:1
CLASS:PUBLIC
END:VEVENT
END:VCALENDAR
