BEGIN:VCALENDAR
PRODID:-//kirchenweb.ch gmbh//veranstaltungsausgabe v2.0//DE
VERSION:2.0
METHOD:PUBLISH
BEGIN:VEVENT
DTSTART:20260514T073000Z
DTEND:20260514T093000Z
LOCATION:St. Josefskirche\, Hermann-Keller-Strasse 8\, 4310 Rheinfelden
TRANSP:OPAQUE
SEQUENCE:0
UID:17350-veranstaltung@ref-rheinfelden.ch
DTSTAMP:20260406T163206Z
DESCRIPTION:Dein Reich komme: Wir suchen den Himmel auf Erden.\n\nZu
  Auffahrt bzw. Christi Himmelfahrt kommen die Römisch-Katholischen\, wir
  Evangelisch-Reformierten und die Christ-/Alt-Katholischen Kirchen beider
  Rheinfelden zusammen zu einem gemeinsamen Gottesdienst\, der die
  Gottesdienstgemeinden durch die verschiedenen Kirchen und (bei schönem
  Wetter) schliesslich auf dem Inseli zusammenführt.\n\nAblauf auf
  Schweizer Seite:\n1. Station: 09.30 röm.-kath. Josefskirche\n2. Station:
  10.00 evang.-ref. Kirche\n3. Station: 10.30 christkath. Martinskirche\n4.
  gemeinsame Station: 11.00 gemeinsamer Abschluss auf dem Inseli
  (Schlechtwetter: in der Martinskirche)\n\nMit Gebet\, Musik und Lesungen
  laden die verschiedenen Stationen zum Innehalten ein und zu
  Glockengeläut gehen wir gemeinsam von Station zu Station.\nHerzliche
  Einladung zu diesem verbindenden Gottesdiensterlebnis!\n\nKontakt:
  jonas.meier\n\nWeitere Infos:
  https://www.ref-rheinfelden.ch/veranstaltung/17350
SUMMARY:Dein Reich komme: Ökumenischer Gottesdienst zu Auffahrt mit vier
  Stationen
PRIORITY:5
X-MICROSOFT-CDO-IMPORTANCE:1
CLASS:PUBLIC
END:VEVENT
END:VCALENDAR
