BEGIN:VCALENDAR
PRODID:-//kirchenweb.ch gmbh//veranstaltungsausgabe v2.0//DE
VERSION:2.0
METHOD:PUBLISH
BEGIN:VEVENT
DTSTART:20260426T080000Z
DTEND:20260426T090000Z
LOCATION:Evang.-Ref. Kirche Rheinfelden\, Zürcherstrasse 1\, 4310
  Rheinfelden
TRANSP:OPAQUE
SEQUENCE:0
UID:17346-veranstaltung@ref-rheinfelden.ch
DTSTAMP:20260310T083434Z
DESCRIPTION:Jesus geht seinen Jüngern voran auf dem Weg nach Jerusalem.
  Die Sonne brennt an diesem Tag. Es ist heiss und staubig auf der Strasse.
  Und Jesus geht ein zügiges Tempo. Dennoch lösen sich zwei aus der
  Gruppe der Jünger und schliessen zu ihm auf. Es sind Jakobus und
  Johannes\, die Söhne des Zebedäus. Erst drucksen sie ein wenig herum
  und dann sagen sie\, als Jesus sie auffordert: „Gib uns\, dass wir
  sitzen einer zu deiner Rechten und einer zu deiner Linken in deiner
  Herrlichkeit.“ Herzliche Einladung zu diesem Gottesdienst.\n\nKontakt:
  Pfr. Klaus-Christian Hirte\n\nWeitere Infos:
  https://www.ref-rheinfelden.ch/veranstaltung/17346
SUMMARY:Zur Rechten und zur Linken - Gottesdienst
PRIORITY:5
X-MICROSOFT-CDO-IMPORTANCE:1
CLASS:PUBLIC
END:VEVENT
END:VCALENDAR
