BEGIN:VCALENDAR
PRODID:-//kirchenweb.ch gmbh//veranstaltungsausgabe v2.0//DE
VERSION:2.0
METHOD:PUBLISH
BEGIN:VEVENT
DTSTART:20261231T170000Z
DTEND:20261231T180000Z
LOCATION:Kirchgemeindehaus Gässli\, Juchstrasse 27\, 4312 Magden
TRANSP:OPAQUE
SEQUENCE:0
UID:17343-veranstaltung@ref-rheinfelden.ch
DTSTAMP:20260128T142227Z
DESCRIPTION:Kontakt: N.N.\n\nWeitere Infos:
  https://www.ref-rheinfelden.ch/veranstaltung/17343
SUMMARY:Gottesdienst an Silvester
PRIORITY:5
X-MICROSOFT-CDO-IMPORTANCE:1
CLASS:PUBLIC
END:VEVENT
END:VCALENDAR
