BEGIN:VCALENDAR
PRODID:-//kirchenweb.ch gmbh//veranstaltungsausgabe v2.0//DE
VERSION:2.0
METHOD:PUBLISH
BEGIN:VEVENT
DTSTART:20260503T080000Z
DTEND:20260503T090000Z
LOCATION:Kirchgemeindehaus Gässli\, Juchstrasse 27\, 4312 Magden
TRANSP:OPAQUE
SEQUENCE:0
UID:17338-veranstaltung@ref-rheinfelden.ch
DTSTAMP:20260416T080935Z
DESCRIPTION:Kontakt: Sandra Buser\n\nWeitere Infos:
  https://www.ref-rheinfelden.ch/veranstaltung/17338
SUMMARY:Gottesdienst mit Konf-Begrüssung
PRIORITY:5
X-MICROSOFT-CDO-IMPORTANCE:1
CLASS:PUBLIC
END:VEVENT
END:VCALENDAR
