BEGIN:VCALENDAR
PRODID:-//kirchenweb.ch gmbh//veranstaltungsausgabe v2.0//DE
VERSION:2.0
METHOD:PUBLISH
BEGIN:VEVENT
DTSTART:20260614T150000Z
DTEND:20260614T190000Z
LOCATION:Kirchgemeindehaus Kaiseraugst\, Kraftwerkstrasse 13\, 4303
  Kaiseraugst
TRANSP:OPAQUE
SEQUENCE:0
UID:17318-veranstaltung@ref-rheinfelden.ch
DTSTAMP:20260408T121927Z
DESCRIPTION:«Der Tag geht zu Ende und die Ausstellung auch» (Viktor
  Hottinger).\n\nIm letzten Gottesdienst im Rahmen der
  «indigo»-Ausstellung von Viktor Hottinger nehmen wir noch einmal Bezug
  auf das «Abendlied» von Matthias Claudius. Ihm ist das Triptychon des
  Rheinfelder Kunstmalers gewidmet\, welches seit dem 12. April vorn in
  unserem Kirchenraum steht. Die Predigt wird besonders auf die mittlere
  Strophe Bezug nehmen:\n\n«Seht ihr den Mond dort stehen?\nEr ist nur
  halb zu sehen\nund ist doch rund und schön.\nSo sind wohl manche
  Sachen\,\ndie wir getrost belachen\,\nweil unsre Augen sie nicht sehn.»
 \n\nIm Anschluss an den Gottesdienst feiern wir Finissage: Ab 18.30 Uhr
  gibt es ein Konzert mit dem Jazz-Trio «BRANDNEW STRINGS». Mit dabei
  Hottinger selbst\, der auch Jazz-Kornettist ist!\n\nHerzliche Einladung!
 \n\n\nKontakt: Pfr. Andreas Fischer\n\nWeitere Infos:
  https://www.ref-rheinfelden.ch/veranstaltung/17318
SUMMARY:"... weil unsre Augen sie nicht sehn" - Abendgottesdienst mit
  Finissage der "indigo"-Ausstellung
PRIORITY:5
X-MICROSOFT-CDO-IMPORTANCE:1
CLASS:PUBLIC
END:VEVENT
END:VCALENDAR
