BEGIN:VCALENDAR
PRODID:-//kirchenweb.ch gmbh//veranstaltungsausgabe v2.0//DE
VERSION:2.0
METHOD:PUBLISH
BEGIN:VEVENT
DTSTART:20260531T171500Z
DTEND:20260531T191500Z
LOCATION:Kirchgemeindehaus Kaiseraugst\, Kraftwerkstrasse 13\, 4303
  Kaiseraugst
TRANSP:OPAQUE
SEQUENCE:0
UID:17317-veranstaltung@ref-rheinfelden.ch
DTSTAMP:20260408T095529Z
DESCRIPTION:Vom 12. April bis 14. Juni dauert die Ausstellung "indigo" des
  Rheinfelder Kunstmalers https://www.ref-rheinfelden.ch/bericht/1611 in
  unserem Kirchgemeindehaus. In dieser Zeit hängt vorn im Kirchenraum
  nicht unser leuchtender Quilt\, sondern das\, eben\, in Indigo-Tönen
  gehaltene Triptychon zum "Abendlied" von Matthias Claudius. Es sind drei
  Strophen daraus\, die Hottinger zu dem Werk inspiriert haben:\n\nDer Mond
  ist aufgegangen\,\ndie goldnen Sternlein prangen\nam Himmel hell und
  klar;\nder Wald steht schwarz und schweiget\,\nund aus den Wiesen steiget
 \nder weisse Nebel wunderbar.\n\nSeht ihr den Mond dort stehen?\nEr ist
  nur halb zu sehen\nund ist doch rund und schön.\nSo sind wohl manche
  Sachen\,\ndie wir getrost belachen\,\nweil unsre Augen sie nicht sehn.\n
 \nSo legt euch denn ihr Brüder\nin Gottes Namen nieder\nkalt weht der
  Abendhauch\,\nverschon uns Gott mit Strafen\nund lass und ruhig schlafen
 \nund unsern kranken Nachbarn auch.\n\nIn der Predigt werde ich mich ins
  "Abendlied" und besonders diese drei Strophen vertiefen. Und
  selbstverständlich werden wir es singen - und weitere der wunderbaren
  Abendlieder in unserem Kirchgesangbuch.\n\nPS: Der Kirchenraum ist schon
  ab 16 Uhr geöffnet für Besucher:innen der Ausstellung!\n\nKontakt: Pfr.
  Andreas Fischer\n\nWeitere Infos:
  https://www.ref-rheinfelden.ch/veranstaltung/17317
SUMMARY:"Der Mond ist aufgegangen": Abendgottesdienst zum "Abendlied" von
  Matthias Claudius\, im Rahmen der Ausstellung "indigo" von Viktor
  Hottinger
PRIORITY:5
X-MICROSOFT-CDO-IMPORTANCE:1
CLASS:PUBLIC
END:VEVENT
END:VCALENDAR
