BEGIN:VCALENDAR
PRODID:-//kirchenweb.ch gmbh//veranstaltungsausgabe v2.0//DE
VERSION:2.0
METHOD:PUBLISH
BEGIN:VEVENT
DTSTART:20260823T080000Z
DTEND:20260823T090000Z
LOCATION:Reha Rheinfelden\, Salinenstrasse 98\, 4310 Rheinfelden
TRANSP:OPAQUE
SEQUENCE:0
UID:17291-veranstaltung@ref-rheinfelden.ch
DTSTAMP:20251002T142307Z
DESCRIPTION:Kontakt: Pfrn. Christine Ruszkowski\n\nWeitere Infos:
  https://www.ref-rheinfelden.ch/veranstaltung/17291
SUMMARY:Reha Rheinfelden Sonntags-Gottesdienst
PRIORITY:5
X-MICROSOFT-CDO-IMPORTANCE:1
CLASS:PUBLIC
END:VEVENT
END:VCALENDAR
