BEGIN:VCALENDAR
PRODID:-//kirchenweb.ch gmbh//veranstaltungsausgabe v2.0//DE
VERSION:2.0
METHOD:PUBLISH
BEGIN:VEVENT
DTSTART:20261031T073000Z
DTEND:20261031T110000Z
LOCATION:Evang.-Ref. Kirche Rheinfelden\, Zürcherstrasse 1\, 4310
  Rheinfelden
TRANSP:OPAQUE
SEQUENCE:0
UID:17252-veranstaltung@ref-rheinfelden.ch
DTSTAMP:20260415T084226Z
DESCRIPTION:Das FFF wird von einem Frauen-Team der katholischen und
  reformierten Kirche vorbereitet und findet 2x pro Jahr statt.\n
 \nZielpublikum\nFrauen jeden Alters sind herzlich eingeladen.\n\n
 \nKontakt: Iris Reif\n\nWeitere Infos:
  https://www.ref-rheinfelden.ch/veranstaltung/17252
SUMMARY:FFF - "Forum Frauen Frühstück"
PRIORITY:5
X-MICROSOFT-CDO-IMPORTANCE:1
CLASS:PUBLIC
END:VEVENT
END:VCALENDAR
