BEGIN:VCALENDAR
PRODID:-//kirchenweb.ch gmbh//veranstaltungsausgabe v2.0//DE
VERSION:2.0
METHOD:PUBLISH
BEGIN:VEVENT
DTSTART:20261101T130000Z
DTEND:20261101T140000Z
LOCATION:Waldfriedhof Rheinfelden\, \, 4310 Rheinfelden
TRANSP:OPAQUE
SEQUENCE:0
UID:17211-veranstaltung@ref-rheinfelden.ch
DTSTAMP:20251119T104626Z
DESCRIPTION:Kontakt: Pfr. Klaus-Christian Hirte\n\nWeitere Infos:
  https://www.ref-rheinfelden.ch/veranstaltung/17211
SUMMARY:Ök. Gottesdienst an Allerheiligen
PRIORITY:5
X-MICROSOFT-CDO-IMPORTANCE:1
CLASS:PUBLIC
END:VEVENT
END:VCALENDAR
