BEGIN:VCALENDAR
PRODID:-//kirchenweb.ch gmbh//veranstaltungsausgabe v2.0//DE
VERSION:2.0
METHOD:PUBLISH
BEGIN:VEVENT
DTSTART:20261225T090000Z
DTEND:20261225T100000Z
LOCATION:Evang.-Ref. Kirche Rheinfelden\, Zürcherstrasse 1\, 4310
  Rheinfelden
TRANSP:OPAQUE
SEQUENCE:0
UID:17209-veranstaltung@ref-rheinfelden.ch
DTSTAMP:20251119T110023Z
DESCRIPTION:Kontakt: Pfr. Klaus-Christian Hirte\n\nWeitere Infos:
  https://www.ref-rheinfelden.ch/veranstaltung/17209
SUMMARY:Weihnachts-Gottesdienst mit Gospelchor
PRIORITY:5
X-MICROSOFT-CDO-IMPORTANCE:1
CLASS:PUBLIC
END:VEVENT
END:VCALENDAR
