BEGIN:VCALENDAR
PRODID:-//kirchenweb.ch gmbh//veranstaltungsausgabe v2.0//DE
VERSION:2.0
METHOD:PUBLISH
BEGIN:VEVENT
DTSTART:20261129T170000Z
DTEND:20261129T180000Z
LOCATION:Evang.-Ref. Kirche Rheinfelden\, Zürcherstrasse 1\, 4310
  Rheinfelden
TRANSP:OPAQUE
SEQUENCE:0
UID:17207-veranstaltung@ref-rheinfelden.ch
DTSTAMP:20251016T120604Z
DESCRIPTION:DAG- Der Andere Gottesdienst\n\nKontakt: Pfr. Klaus-Christian
  Hirte\n\nWeitere Infos:
  https://www.ref-rheinfelden.ch/veranstaltung/17207
SUMMARY:Adventslieder im Kerzenschein - DAG - Der Andere Gottesdienst
PRIORITY:5
X-MICROSOFT-CDO-IMPORTANCE:1
CLASS:PUBLIC
END:VEVENT
END:VCALENDAR
