BEGIN:VCALENDAR
PRODID:-//kirchenweb.ch gmbh//veranstaltungsausgabe v2.0//DE
VERSION:2.0
METHOD:PUBLISH
BEGIN:VEVENT
DTSTART:20260524T080000Z
DTEND:20260524T090000Z
LOCATION:Evang.-Ref. Kirche Rheinfelden\, Zürcherstrasse 1\, 4310
  Rheinfelden
TRANSP:OPAQUE
SEQUENCE:0
UID:17199-veranstaltung@ref-rheinfelden.ch
DTSTAMP:20260331T090435Z
DESCRIPTION:Das Pfingstwunder\n\nIm prachtvollen Saal der Malteser auf dem
  römischen Aventin treffen sich Dante-Gelehrte aus etlichen Ländern zu
  einer Fachtagung. Im Mittelpunkt steht die göttliche Komödie\, jenes um
  1300 entstandene Werk Dantes\, über die Welt nach dem Tod. Als die
  Kirchenglocken Roms das Pfingstfest einläuten\, beginnt etwas
  Unbegreifliches. Die Forscher werden vom Geist ergriffen. Sibylle
  Lewitscharoff beschreibt in ihrem Roman „Das Pfingstwunder“ wie heute
  von Pfingsten erzählt werden kann. Herzliche Einladung zum
  Pfingstgottesdienst\, den wir mit Abendmahl feiern werden. \n\nKontakt:
  Pfr. Klaus-Christian Hirte\n\nWeitere Infos:
  https://www.ref-rheinfelden.ch/veranstaltung/17199
SUMMARY:Pfingst-Gottesdienst mit Abendmahl
PRIORITY:5
X-MICROSOFT-CDO-IMPORTANCE:1
CLASS:PUBLIC
END:VEVENT
END:VCALENDAR
